BEGIN:VCALENDAR
VERSION:2.0
PRODID:-//eventon.com NONSGML v1.0//EN
CALSCALE:GREGORIAN
METHOD:PUBLISH
BEGIN:VEVENT
UID:69e4dcad04cf6
DTSTAMP:20260419T134621Z
DTSTART:20200307T090000Z
DTEND:20200307T140000Z
LOCATION:Spray Lake Sawmills Family Sports Centre 800 Griffin Rd E
SUMMARY:Spring Market
DESCRIPTION:Our indoor markets are hosted at Spray Lake Sawmills Family Spo
 rts Centre\,  a beautiful and expansive sports facility with plenty of on-s
 ite parking.\nhttps://cochranefarmersmarket.ca/events/spring-market-2/
URL:https://cochranefarmersmarket.ca/events/spring-market-2/
END:VEVENT
END:VCALENDAR