BEGIN:VCALENDAR
VERSION:2.0
PRODID:-//eventon.com NONSGML v1.0//EN
CALSCALE:GREGORIAN
METHOD:PUBLISH
BEGIN:VEVENT
UID:69e73b1d5939b
DTSTAMP:20260421T085349Z
DTSTART:20220611T150000Z
DTEND:20220611T200000Z
LOCATION:Spray Lake Sawmills Family Sports Centre 800 Griffin Rd E
SUMMARY:Market by the Bow
DESCRIPTION:Due to the challenges of COVID-19\,  the Cochrane Farmers Marke
 t is moving the Market at the Ranche to the Spray Lake Sawmills Family Spor
 ts Centre parking lot\,  right along the Bow River in Cochrane. Remember to
  respect social distancing! &nbsp;\nhttps://cochranefarmersmarket.ca/events
 /market-at-the-ranche-2/var/ri-1.l-L1
URL:https://cochranefarmersmarket.ca/events/market-at-the-ranche-2/var/ri-1.l-L1
END:VEVENT
END:VCALENDAR