BEGIN:VCALENDAR
VERSION:2.0
PRODID:-//eventon.com NONSGML v1.0//EN
CALSCALE:GREGORIAN
METHOD:PUBLISH
BEGIN:VEVENT
UID:69e5e5b8b7bcd
DTSTAMP:20260420T083712Z
DTSTART:20260606T150000Z
DTEND:20260606T200000Z
LOCATION:SLS Centre 800 Griffin Rd E
SUMMARY:Market By The Bow
DESCRIPTION:The Cochrane Farmers’ Market is heading into our 28th season!
  We invite you to join us at the Market by the Bow – enjoy one of the bes
 t market experiences in the region. Weekly vendor lists are posted every Fr
 iday before the market on Facebook and Instagram as well as[..]\nhttps://co
 chranefarmersmarket.ca/events/market-by-the-bow-2/
URL:https://cochranefarmersmarket.ca/events/market-by-the-bow-2/
END:VEVENT
END:VCALENDAR